Workbook
Name anaProje: FikoYT!$C$3
Name camDosyasi: FikoYT!$C$11
Name camOlculerı: FikoYT!$C$13
Name camOlculeri: FikoYT!$C$13
Name camSorumlusu: FikoYT!$C$14
Name isEmriNo: FikoYT!$C$1
Name malzemesi: FikoYT!$C$6
Name modelDosyasi: FikoYT!$C$10
Name musteriFirma: FikoYT!$C$2
Name operasyonIsmi: FikoYT!$C$5
Name ParcaNo: FikoYT!$C$4
Name Print_Area: 'Sayfa-1'!$A$1:$V$62
Name Print_Area: 'Sayfa-2'!$A$1:$V$62
Name sifirX: FikoYT!$C$16
Name sifirY: FikoYT!$C$17
Name sifirZ: FikoYT!$C$18
Name tarih: FikoYT!$C$7
Name tasarimOlculeri: FikoYT!$C$12
Name tasarimSorumlusu: FikoYT!$C$15
Name tezgah: FikoYT!$C$8
Name yazma_alani: 'Sayfa-1'!$A$1:$V$62
Name yazma_alani: 'Sayfa-2'!$A$1:$V$62

Sheet FikoYT
A1: İş Emri No
A2: Müşteri Firma
A3: Ana Proje
A4: Parça No
A5: Operasyon İsmi
A6: Malzemesi
A7: Tarih | C7: 32017
A8: Tezgah | C8: FANUC HEINDENHAIN
A9: Sayfa
A10: Model Dosyası
A11: Cam Dosyası
A12: Tasarım Ölçüler
A13: Cam Ölçüleri
A14: Cam Sorumlusu | C14: Fikri TOPALOĞLU
A15: Tasarım Sorumlusu
A16: Sıfır X
A17: Sıfır Y
A18: Sıfır Z

Sheet Programlar
A1: Sıra No | B1: Program Açıklama | C1: Program Adı | D1: Açılar | E1: Kaçma Değerleri | F1: Açısal Offset | G1: Takım | H1: Takım Boy | I1: İşleme İlerlemesi | J1: Devir | K1: Yanal Adım | L1: Hatve | M1: Yüzey Offset | N1: Çevre Offset | O1: İşleme Süresi | P1: Magazinli | Q1: Operasyon Boyutları | R1: Bilgi Kodu | S1: Aktif | T1: Hesaplatılmamış
A2: 1.
A3: 2.
A4: 3.
A5: 4.
A6: 5.
A7: 6.
A8: 7.
A9: 8.
A10: 9.
A11: 10.
A12: 11.
A13: 12.
... A151: 150.

Sheet Örnekler

Sheet Sayfa-1
B4: İş Emri No: | D4: =isEmriNo -> 0 | H4: Ana Proje : | I4: =anaProje -> 0 | L4: Operasyon İsmi : | S4: Tarih: | T4: =tarih -> 32017
B6: Müşteri Firma: | D6: =musteriFirma -> 0 | H6: Parça No: | I6: =ParcaNo -> 0 | L6: Malzemesi : | N6: =malzemesi -> 0 | S6: Tezgah: | T6: =tezgah -> FANUC HEINDENHAIN
B8: Catia Model : | D8: =modelDosyasi -> 0
B10: Cam Dosyası : | D10: =camDosyasi -> 0
A12: İŞLEME BİLGİLERİ
A13: İŞLEM NO: | B13: İŞLEM ADI VE AÇIKLAMASI | F13: PROGRAM NO | G13: Açılar | H13: Kaçma Değerleri | J13: TAKIM | L13: TAKIM BOYU mm | M13: İLERLEME | N13: BİLGİ KODU | O13: YAN HATVE | P13: HATVE (Z) | Q13: YUZEY OFSET | R13: ÇEVRE OFSET | S13: İŞLEME ZAMANI (dk.) | U13: +0.1 Açısal Offsetl Değerleri Formdan 0.1 Uzaklaştırır
O14: mm veya % | S14: TEORİK | T14: TAHMİNİ SAAT
A15: 1. | B15: =Programlar!B2 -> 0 | F15: =Programlar!C2 -> 0 | G15: =Programlar!D2 -> 0 | H15: =Programlar!E2 -> 0 | J15: =Programlar!G2 -> 0 | L15: =Programlar!H2 -> 0 | M15: =Programlar!I2 -> 0 | N15: =Programlar!R2 -> 0 | O15: =Programlar!K2 -> 0 | P15: =Programlar!L2 -> 0 | Q15: =Programlar!M2 -> 0 | R15: =Programlar!N2 -> 0 | S15: =Programlar!O2 -> 0 | T15: =S15*3 -> 0 | U15: =Programlar!F2 -> 0
A16: 2. | B16: =Programlar!B3 -> 0 | F16: =Programlar!C3 -> 0 | G16: =Programlar!D3 -> 0 | H16: =Programlar!E3 -> 0 | J16: =Programlar!G3 -> 0 | L16: =Programlar!H3 -> 0 | M16: =Programlar!I3 -> 0 | N16: =Programlar!R3 -> 0 | O16: =Programlar!K3 -> 0 | P16: =Programlar!L3 -> 0 | Q16: =Programlar!M3 -> 0 | R16: =Programlar!N3 -> 0 | S16: =Programlar!O3 -> 0 | T16: =S16*3 -> 0 | U16: =Programlar!F3 -> 0
A17: 3. | B17: =Programlar!B4 -> 0 | F17: =Programlar!C4 -> 0 | G17: =Programlar!D4 -> 0 | H17: =Programlar!E4 -> 0 | J17: =Programlar!G4 -> 0 | L17: =Programlar!H4 -> 0 | M17: =Programlar!I4 -> 0 | N17: =Programlar!R4 -> 0 | O17: =Programlar!K4 -> 0 | P17: =Programlar!L4 -> 0 | Q17: =Programlar!M4 -> 0 | R17: =Programlar!N4 -> 0 | S17: =Programlar!O4 -> 0 | T17: =S17*3 -> 0 | U17: =Programlar!F4 -> 0
A18: 4. | B18: =Programlar!B5 -> 0 | F18: =Programlar!C5 -> 0 | G18: =Programlar!D5 -> 0 | H18: =Programlar!E5 -> 0 | J18: =Programlar!G5 -> 0 | L18: =Programlar!H5 -> 0 | M18: =Programlar!I5 -> 0 | N18: =Programlar!R5 -> 0 | O18: =Programlar!K5 -> 0 | P18: =Programlar!L5 -> 0 | Q18: =Programlar!M5 -> 0 | R18: =Programlar!N5 -> 0 | S18: =Programlar!O5 -> 0 | T18: =S18*3 -> 0 | U18: =Programlar!F5 -> 0
A19: 5. | B19: =Programlar!B6 -> 0 | F19: =Programlar!C6 -> 0 | G19: =Programlar!D6 -> 0 | H19: =Programlar!E6 -> 0 | J19: =Programlar!G6 -> 0 | L19: =Programlar!H6 -> 0 | M19: =Programlar!I6 -> 0 | N19: =Programlar!R6 -> 0 | O19: =Programlar!K6 -> 0 | P19: =Programlar!L6 -> 0 | Q19: =Programlar!M6 -> 0 | R19: =Programlar!N6 -> 0 | S19: =Programlar!O6 -> 0 | T19: =S19*3 -> 0 | U19: =Programlar!F6 -> 0
A20: 6. | B20: =Programlar!B7 -> 0 | F20: =Programlar!C7 -> 0 | G20: =Programlar!D7 -> 0 | H20: =Programlar!E7 -> 0 | J20: =Programlar!G7 -> 0 | L20: =Programlar!H7 -> 0 | M20: =Programlar!I7 -> 0 | N20: =Programlar!R7 -> 0 | O20: =Programlar!K7 -> 0 | P20: =Programlar!L7 -> 0 | Q20: =Programlar!M7 -> 0 | R20: =Programlar!N7 -> 0 | S20: =Programlar!O7 -> 0 | T20: =S20*3 -> 0 | U20: =Programlar!F7 -> 0
A21: 7. | B21: =Programlar!B8 -> 0 | F21: =Programlar!C8 -> 0 | G21: =Programlar!D8 -> 0 | H21: =Programlar!E8 -> 0 | J21: =Programlar!G8 -> 0 | L21: =Programlar!H8 -> 0 | M21: =Programlar!I8 -> 0 | N21: =Programlar!R8 -> 0 | O21: =Programlar!K8 -> 0 | P21: =Programlar!L8 -> 0 | Q21: =Programlar!M8 -> 0 | R21: =Programlar!N8 -> 0 | S21: =Programlar!O8 -> 0 | T21: =S21*3 -> 0 | U21: =Programlar!F8 -> 0
A22: 8. | B22: =Programlar!B9 -> 0 | F22: =Programlar!C9 -> 0 | G22: =Programlar!D9 -> 0 | H22: =Programlar!E9 -> 0 | J22: =Programlar!G9 -> 0 | L22: =Programlar!H9 -> 0 | M22: =Programlar!I9 -> 0 | N22: =Programlar!R9 -> 0 | O22: =Programlar!K9 -> 0 | P22: =Programlar!L9 -> 0 | Q22: =Programlar!M9 -> 0 | R22: =Programlar!N9 -> 0 | S22: =Programlar!O9 -> 0 | T22: =S22*3 -> 0 | U22: =Programlar!F9 -> 0
A23: 9. | B23: =Programlar!B10 -> 0 | F23: =Programlar!C10 -> 0 | G23: =Programlar!D10 -> 0 | H23: =Programlar!E10 -> 0 | J23: =Programlar!G10 -> 0 | L23: =Programlar!H10 -> 0 | M23: =Programlar!I10 -> 0 | N23: =Programlar!R10 -> 0 | O23: =Programlar!K10 -> 0 | P23: =Programlar!L10 -> 0 | Q23: =Programlar!M10 -> 0 | R23: =Programlar!N10 -> 0 | S23: =Programlar!O10 -> 0 | T23: =S23*3 -> 0 | U23: =Programlar!F10 -> 0
A24: 10. | B24: =Programlar!B11 -> 0 | F24: =Programlar!C11 -> 0 | G24: =Programlar!D11 -> 0 | H24: =Programlar!E11 -> 0 | J24: =Programlar!G11 -> 0 | L24: =Programlar!H11 -> 0 | M24: =Programlar!I11 -> 0 | N24: =Programlar!R11 -> 0 | O24: =Programlar!K11 -> 0 | P24: =Programlar!L11 -> 0 | Q24: =Programlar!M11 -> 0 | R24: =Programlar!N11 -> 0 | S24: =Programlar!O11 -> 0 | T24: =S24*3 -> 0 | U24: =Programlar!F11 -> 0
A25: 11. | B25: =Programlar!B12 -> 0 | F25: =Programlar!C12 -> 0 | G25: =Programlar!D12 -> 0 | H25: =Programlar!E12 -> 0 | J25: =Programlar!G12 -> 0 | L25: =Programlar!H12 -> 0 | M25: =Programlar!I12 -> 0 | N25: =Programlar!R12 -> 0 | O25: =Programlar!K12 -> 0 | P25: =Programlar!L12 -> 0 | Q25: =Programlar!M12 -> 0 | R25: =Programlar!N12 -> 0 | S25: =Programlar!O12 -> 0 | T25: =S25*3 -> 0 | U25: =Programlar!F12 -> 0
A26: 12. | B26: =Programlar!B13 -> 0 | F26: =Programlar!C13 -> 0 | G26: =Programlar!D13 -> 0 | H26: =Programlar!E13 -> 0 | J26: =Programlar!G13 -> 0 | L26: =Programlar!H13 -> 0 | M26: =Programlar!I13 -> 0 | N26: =Programlar!R13 -> 0 | O26: =Programlar!K13 -> 0 | P26: =Programlar!L13 -> 0 | Q26: =Programlar!M13 -> 0 | R26: =Programlar!N13 -> 0 | S26: =Programlar!O13 -> 0 | T26: =S26*3 -> 0 | U26: =Programlar!F13 -> 0
... A39: 25. | B39: =Programlar!B26 -> 0 | F39: =Programlar!C26 -> 0 | G39: =Programlar!D26 -> 0 | H39: =Programlar!E26 -> 0 | J39: =Programlar!G26 -> 0 | L39: =Programlar!H26 -> 0 | M39: =Programlar!I26 -> 0 | N39: =Programlar!R26 -> 0 | O39: =Programlar!K26 -> 0 | P39: =Programlar!L26 -> 0 | Q39: =Programlar!M26 -> 0 | R39: =Programlar!N26 -> 0 | S39: =Programlar!O26 -> 0 | T39: =S39*3 -> 0 | U39: =Programlar!F26 -> 0
A40: KONTROL NOKTALARI, ÖLÇÜLER VEYA EK KOORDİNATLAR | Q40: TOPLAM SÜRE DK. | S40: =SUM(S15:S39) -> 0 | T40: =SUM(T15:T39)/60 -> 0
A41: No | B41: X | D41: Y | F41: Z | G41: Ölçü <> Açıklama
A42: A
A43: B
A44: C
A45: D
A46: E
A47: F
A48: G
A49: H
A50: Parça Dış Hat Sınır Ölçüleri ( X Y Z ) - Tasarım
A51: =tasarimOlculeri
A52: Kütük Dış Hat Sınır Ölçüleri ( X Y Z ) - Cam
A53: =camOlculeri
A54: Sıfırlama Talimatları
A55: X : | B55: =sifirX
A56: Y : | B56: =sifirY
A57: Z : | B57: =sifirZ
A58: CAM Sorumlusu | D58: =camSorumlusu -> Fikri TOPALOĞLU
A60: Tasarım Sorumlusu | D60: =tasarimSorumlusu
A62: [M] = Magazinli; [A] = Simultane Açılı( Farklı Açılar ); [H] = Hesaplatılmamış | J62: Yayın Tarihi:28.08.2016 | T62: FR=082

Sheet Sayfa-2
B4: İş Emri No: | D4: =isEmriNo -> 0 | H4: Ana Proje : | I4: =anaProje -> 0 | L4: Operasyon İsmi : | S4: Tarih: | T4: =tarih -> 32017
B6: Müşteri Firma: | D6: =musteriFirma -> 0 | H6: Parça No: | I6: =ParcaNo -> 0 | L6: Malzemesi : | N6: =malzemesi -> 0 | S6: Tezgah: | T6: =tezgah -> FANUC HEINDENHAIN
B8: Catia Model : | D8: =modelDosyasi -> 0
B10: Cam Dosyası : | D10: =camDosyasi -> 0
A12: İŞLEME BİLGİLERİ
A13: İŞLEM NO: | B13: İŞLEM ADI VE AÇIKLAMASI | F13: PROGRAM NO | G13: Açılar | H13: Kaçma Değerleri | J13: TAKIM | L13: TAKIM BOYU mm | M13: İLERLEME | N13: BİLGİ KODU | O13: YAN HATVE | P13: HATVE (Z) | Q13: YUZEY OFSET | R13: ÇEVRE OFSET | S13: İŞLEME ZAMANI (dk.) | U13: +0.1 Açısal Offsetl Değerleri Formdan 0.1 Uzaklaştırır
O14: mm veya % | S14: TEORİK | T14: TAHMİNİ SAAT
A15: 1. | B15: =Programlar!B27 -> 0 | F15: =Programlar!C27 -> 0 | G15: =Programlar!D27 -> 0 | H15: =Programlar!E27 -> 0 | J15: =Programlar!G27 -> 0 | L15: =Programlar!H27 -> 0 | M15: =Programlar!I27 -> 0 | N15: =Programlar!R27 -> 0 | O15: =Programlar!K27 -> 0 | P15: =Programlar!L27 -> 0 | Q15: =Programlar!M27 -> 0 | R15: =Programlar!N27 -> 0 | S15: =Programlar!O27 -> 0 | T15: =S15*3 -> 0 | U15: =Programlar!F27 -> 0
A16: 2. | B16: =Programlar!B28 -> 0 | F16: =Programlar!C28 -> 0 | G16: =Programlar!D28 -> 0 | H16: =Programlar!E28 -> 0 | J16: =Programlar!G28 -> 0 | L16: =Programlar!H28 -> 0 | M16: =Programlar!I28 -> 0 | N16: =Programlar!R28 -> 0 | O16: =Programlar!K28 -> 0 | P16: =Programlar!L28 -> 0 | Q16: =Programlar!M28 -> 0 | R16: =Programlar!N28 -> 0 | S16: =Programlar!O28 -> 0 | T16: =S16*3 -> 0 | U16: =Programlar!F28 -> 0
A17: 3. | B17: =Programlar!B29 -> 0 | F17: =Programlar!C29 -> 0 | G17: =Programlar!D29 -> 0 | H17: =Programlar!E29 -> 0 | J17: =Programlar!G29 -> 0 | L17: =Programlar!H29 -> 0 | M17: =Programlar!I29 -> 0 | N17: =Programlar!R29 -> 0 | O17: =Programlar!K29 -> 0 | P17: =Programlar!L29 -> 0 | Q17: =Programlar!M29 -> 0 | R17: =Programlar!N29 -> 0 | S17: =Programlar!O29 -> 0 | T17: =S17*3 -> 0 | U17: =Programlar!F29 -> 0
A18: 4. | B18: =Programlar!B30 -> 0 | F18: =Programlar!C30 -> 0 | G18: =Programlar!D30 -> 0 | H18: =Programlar!E30 -> 0 | J18: =Programlar!G30 -> 0 | L18: =Programlar!H30 -> 0 | M18: =Programlar!I30 -> 0 | N18: =Programlar!R30 -> 0 | O18: =Programlar!K30 -> 0 | P18: =Programlar!L30 -> 0 | Q18: =Programlar!M30 -> 0 | R18: =Programlar!N30 -> 0 | S18: =Programlar!O30 -> 0 | T18: =S18*3 -> 0 | U18: =Programlar!F30 -> 0
A19: 5. | B19: =Programlar!B31 -> 0 | F19: =Programlar!C31 -> 0 | G19: =Programlar!D31 -> 0 | H19: =Programlar!E31 -> 0 | J19: =Programlar!G31 -> 0 | L19: =Programlar!H31 -> 0 | M19: =Programlar!I31 -> 0 | N19: =Programlar!R31 -> 0 | O19: =Programlar!K31 -> 0 | P19: =Programlar!L31 -> 0 | Q19: =Programlar!M31 -> 0 | R19: =Programlar!N31 -> 0 | S19: =Programlar!O31 -> 0 | T19: =S19*3 -> 0 | U19: =Programlar!F31 -> 0
A20: 6. | B20: =Programlar!B32 -> 0 | F20: =Programlar!C32 -> 0 | G20: =Programlar!D32 -> 0 | H20: =Programlar!E32 -> 0 | J20: =Programlar!G32 -> 0 | L20: =Programlar!H32 -> 0 | M20: =Programlar!I32 -> 0 | N20: =Programlar!R32 -> 0 | O20: =Programlar!K32 -> 0 | P20: =Programlar!L32 -> 0 | Q20: =Programlar!M32 -> 0 | R20: =Programlar!N32 -> 0 | S20: =Programlar!O32 -> 0 | T20: =S20*3 -> 0 | U20: =Programlar!F32 -> 0
A21: 7. | B21: =Programlar!B33 -> 0 | F21: =Programlar!C33 -> 0 | G21: =Programlar!D33 -> 0 | H21: =Programlar!E33 -> 0 | J21: =Programlar!G33 -> 0 | L21: =Programlar!H33 -> 0 | M21: =Programlar!I33 -> 0 | N21: =Programlar!R33 -> 0 | O21: =Programlar!K33 -> 0 | P21: =Programlar!L33 -> 0 | Q21: =Programlar!M33 -> 0 | R21: =Programlar!N33 -> 0 | S21: =Programlar!O33 -> 0 | T21: =S21*3 -> 0 | U21: =Programlar!F33 -> 0
A22: 8. | B22: =Programlar!B34 -> 0 | F22: =Programlar!C34 -> 0 | G22: =Programlar!D34 -> 0 | H22: =Programlar!E34 -> 0 | J22: =Programlar!G34 -> 0 | L22: =Programlar!H34 -> 0 | M22: =Programlar!I34 -> 0 | N22: =Programlar!R34 -> 0 | O22: =Programlar!K34 -> 0 | P22: =Programlar!L34 -> 0 | Q22: =Programlar!M34 -> 0 | R22: =Programlar!N34 -> 0 | S22: =Programlar!O34 -> 0 | T22: =S22*3 -> 0 | U22: =Programlar!F34 -> 0
A23: 9. | B23: =Programlar!B35 -> 0 | F23: =Programlar!C35 -> 0 | G23: =Programlar!D35 -> 0 | H23: =Programlar!E35 -> 0 | J23: =Programlar!G35 -> 0 | L23: =Programlar!H35 -> 0 | M23: =Programlar!I35 -> 0 | N23: =Programlar!R35 -> 0 | O23: =Programlar!K35 -> 0 | P23: =Programlar!L35 -> 0 | Q23: =Programlar!M35 -> 0 | R23: =Programlar!N35 -> 0 | S23: =Programlar!O35 -> 0 | T23: =S23*3 -> 0 | U23: =Programlar!F35 -> 0
A24: 10. | B24: =Programlar!B36 -> 0 | F24: =Programlar!C36 -> 0 | G24: =Programlar!D36 -> 0 | H24: =Programlar!E36 -> 0 | J24: =Programlar!G36 -> 0 | L24: =Programlar!H36 -> 0 | M24: =Programlar!I36 -> 0 | N24: =Programlar!R36 -> 0 | O24: =Programlar!K36 -> 0 | P24: =Programlar!L36 -> 0 | Q24: =Programlar!M36 -> 0 | R24: =Programlar!N36 -> 0 | S24: =Programlar!O36 -> 0 | T24: =S24*3 -> 0 | U24: =Programlar!F36 -> 0
A25: 11. | B25: =Programlar!B37 -> 0 | F25: =Programlar!C37 -> 0 | G25: =Programlar!D37 -> 0 | H25: =Programlar!E37 -> 0 | J25: =Programlar!G37 -> 0 | L25: =Programlar!H37 -> 0 | M25: =Programlar!I37 -> 0 | N25: =Programlar!R37 -> 0 | O25: =Programlar!K37 -> 0 | P25: =Programlar!L37 -> 0 | Q25: =Programlar!M37 -> 0 | R25: =Programlar!N37 -> 0 | S25: =Programlar!O37 -> 0 | T25: =S25*3 -> 0 | U25: =Programlar!F37 -> 0
A26: 12. | B26: =Programlar!B38 -> 0 | F26: =Programlar!C38 -> 0 | G26: =Programlar!D38 -> 0 | H26: =Programlar!E38 -> 0 | J26: =Programlar!G38 -> 0 | L26: =Programlar!H38 -> 0 | M26: =Programlar!I38 -> 0 | N26: =Programlar!R38 -> 0 | O26: =Programlar!K38 -> 0 | P26: =Programlar!L38 -> 0 | Q26: =Programlar!M38 -> 0 | R26: =Programlar!N38 -> 0 | S26: =Programlar!O38 -> 0 | T26: =S26*3 -> 0 | U26: =Programlar!F38 -> 0
... A39: 25. | B39: =Programlar!B51 -> 0 | F39: =Programlar!C51 -> 0 | G39: =Programlar!D51 -> 0 | H39: =Programlar!E51 -> 0 | J39: =Programlar!G51 -> 0 | L39: =Programlar!H51 -> 0 | M39: =Programlar!I51 -> 0 | N39: =Programlar!R51 -> 0 | O39: =Programlar!K51 -> 0 | P39: =Programlar!L51 -> 0 | Q39: =Programlar!M51 -> 0 | R39: =Programlar!N51 -> 0 | S39: =Programlar!O51 -> 0 | T39: =S39*3 -> 0 | U39: =Programlar!F51 -> 0
A40: KONTROL NOKTALARI, ÖLÇÜLER VEYA EK KOORDİNATLAR | Q40: TOPLAM SÜRE DK. | S40: =SUM(S15:S39) -> 0 | T40: =SUM(T15:T39)/60 -> 0
A41: No | B41: X | D41: Y | F41: Z | G41: Ölçü <> Açıklama
A42: A
A43: B
A44: C
A45: D
A46: E
A47: F
A48: G
A49: H
A50: Parça Dış Hat Sınır Ölçüleri ( X Y Z ) - Tasarım
A51: =tasarimOlculeri
A52: Kütük Dış Hat Sınır Ölçüleri ( X Y Z ) - Cam
A53: =camOlculeri
A54: Sıfırlama Talimatları
A55: X : | B55: =sifirX
A56: Y : | B56: =sifirY
A57: Z : | B57: =sifirZ
A58: CAM Sorumlusu | D58: =camSorumlusu -> Fikri TOPALOĞLU
A60: Tasarım Sorumlusu | D60: =tasarimSorumlusu
A62: [M] = Magazinli; [A] = Simultane Açılı( Farklı Açılar ); [H] = Hesaplatılmamış | J62: Yayın Tarihi:28.08.2016 | T62: FR=082
